BEGIN:VCALENDAR
VERSION:2.0
PRODID:-//NXTGEN Racing - ECPv6.3.3.1//NONSGML v1.0//EN
CALSCALE:GREGORIAN
METHOD:PUBLISH
X-WR-CALNAME:NXTGEN Racing
X-ORIGINAL-URL:https://nxtgenracing.co.uk
X-WR-CALDESC:Events for NXTGEN Racing
REFRESH-INTERVAL;VALUE=DURATION:PT1H
X-Robots-Tag:noindex
X-PUBLISHED-TTL:PT1H
BEGIN:VTIMEZONE
TZID:Europe/London
BEGIN:DAYLIGHT
TZOFFSETFROM:+0000
TZOFFSETTO:+0100
TZNAME:BST
DTSTART:20240331T010000
END:DAYLIGHT
BEGIN:STANDARD
TZOFFSETFROM:+0100
TZOFFSETTO:+0000
TZNAME:GMT
DTSTART:20241027T010000
END:STANDARD
END:VTIMEZONE
BEGIN:VEVENT
DTSTART;TZID=Europe/London:20240319T190000
DTEND;TZID=Europe/London:20240319T223000
DTSTAMP:20260423T035724
CREATED:20240313T194554Z
LAST-MODIFIED:20240313T195448Z
UID:1025-1710874800-1710887400@nxtgenracing.co.uk
SUMMARY:NXTCC Season 6 - Monza (No first chicane)
DESCRIPTION:Known to racing aficionados and car buffs alike simply as “Monza\,” the Autodromo Nazionale Monza is among the most fabled motor racing circuits in all the world. Constructed in Monza’s Royal Villa park in the early 1920s\, the circuit has hosted the Italian Grand Prix Formula One race every year but one since the series’ inception and holds the record for the fastest (153.842mph/247.585kph) and closest finish (.18s covering the top four) in Formula One history in 2003 and 1971\, respectively. While its storied history (and proximity to Ferrari’s headquarters in Maranello) makes Monza the unchallenged home of Italian Formula One racing\, the facility has played host to virtually every form of motorsports over the years\, from sports prototypes\, GTs and touring cars\, to MotoGP and superbikes. Monza even hosted the legendary Race of Two Worlds in 1957-58\, which pitted Indianapolis-style race cars against Formula One cars. Thus the breadth of Monza’s roll call winners is unparalleled\, from Tazio Nuvolari and Amedeo Ruggeri to Juan Manuel Fangio\, Jimmy Bryan\, John Surtees\, Michael Schumacher and Sebastian Vettel\, who earned the first F1 win of his career in the 2008 Italian Grand Prix. \n\n\n\nMonza has three very different tracks – the 3.6 mile (5.793K) Grand Prix circuit\, the 1.494 mile (2.4K) Junior circuit and the Alta Velocita\, a steeply-banked 2.6 mile (4.25K) oval. Although a combination of the Grand Prix circuit and Alta Velocita was used in Formula One races in the 1950s\, the practice was discontinued owing to the ferocious pounding the bumpy oval meted out to cars and drivers alike. As well the Grand Prix circuit has undergone a number of safety-targeted modifications over the years\, including the addition of the Variante del Rettifilo\, Variante della Roggia and Variante Ascari chicanes\, but the boomerang-shaped circuit’s fundamental high speed character remains unchanged. \n\n\n\nEvent Host
URL:https://nxtgenracing.co.uk/event/nxtcc-season-6-monza-no-first-chicane/
CATEGORIES:NXTCC Season 6
ATTACH;FMTTYPE=image/jpeg:https://nxtgenracing.co.uk/wp-content/uploads/2024/03/05-3.jpg
ORGANIZER;CN="Jamie Dorey":MAILTO:nxtgenracingleague@gmail.com
END:VEVENT
END:VCALENDAR