BEGIN:VCALENDAR
VERSION:2.0
PRODID:-//NXTGEN Racing - ECPv6.3.3.1//NONSGML v1.0//EN
CALSCALE:GREGORIAN
METHOD:PUBLISH
X-WR-CALNAME:NXTGEN Racing
X-ORIGINAL-URL:https://nxtgenracing.co.uk
X-WR-CALDESC:Events for NXTGEN Racing
REFRESH-INTERVAL;VALUE=DURATION:PT1H
X-Robots-Tag:noindex
X-PUBLISHED-TTL:PT1H
BEGIN:VTIMEZONE
TZID:Europe/London
BEGIN:DAYLIGHT
TZOFFSETFROM:+0000
TZOFFSETTO:+0100
TZNAME:BST
DTSTART:20240331T010000
END:DAYLIGHT
BEGIN:STANDARD
TZOFFSETFROM:+0100
TZOFFSETTO:+0000
TZNAME:GMT
DTSTART:20241027T010000
END:STANDARD
END:VTIMEZONE
BEGIN:VEVENT
DTSTART;TZID=Europe/London:20240402T190000
DTEND;TZID=Europe/London:20240402T223000
DTSTAMP:20260423T024107
CREATED:20240313T200112Z
LAST-MODIFIED:20240313T200112Z
UID:1041-1712084400-1712097000@nxtgenracing.co.uk
SUMMARY:NXTCC Season 6 - MotorLand Aragón (TC)
DESCRIPTION:One of Spain’s newest permanent racing circuits\, MotorLand Aragón broke ground in the winter of 2005 and opened nearly four years later. One of many tracks worldwide designed by Hermann Tilke\, the track hosts a diverse slate of national and international car and motorcycle events\, ranging from touring car and GT cars to major feeder open-wheel divisions. \n\n\n\nThe 3.321-mile Grand Prix circuit at Aragón boasts 18 turns\, as well as two major straightaways—one featuring the start-finish line\, and one after the 90-degree Turn 15. The length of the latter depends on the configuration; for cars\, it heads toward a sharp hairpin for Turn 16\, while the motorcycle layout skips this section for a more gradual Turn 16 that sweeps directly into the frontstretch. Aragón also boasts a smaller National layout that dives into the infield after Turn 2 and brings racers through to the backstretch. \n\n\n\nEvent Host
URL:https://nxtgenracing.co.uk/event/nxtcc-season-6-motorland-aragon-tc/
CATEGORIES:NXTCC Season 6
ATTACH;FMTTYPE=image/jpeg:https://nxtgenracing.co.uk/wp-content/uploads/2024/03/02.jpg
ORGANIZER;CN="Jamie Dorey":MAILTO:nxtgenracingleague@gmail.com
END:VEVENT
END:VCALENDAR