BEGIN:VCALENDAR
VERSION:2.0
PRODID:-//NXTGEN Racing - ECPv6.3.3.1//NONSGML v1.0//EN
CALSCALE:GREGORIAN
METHOD:PUBLISH
X-ORIGINAL-URL:https://nxtgenracing.co.uk
X-WR-CALDESC:Events for NXTGEN Racing
REFRESH-INTERVAL;VALUE=DURATION:PT1H
X-Robots-Tag:noindex
X-PUBLISHED-TTL:PT1H
BEGIN:VTIMEZONE
TZID:Europe/London
BEGIN:DAYLIGHT
TZOFFSETFROM:+0000
TZOFFSETTO:+0100
TZNAME:BST
DTSTART:20240331T010000
END:DAYLIGHT
BEGIN:STANDARD
TZOFFSETFROM:+0100
TZOFFSETTO:+0000
TZNAME:GMT
DTSTART:20241027T010000
END:STANDARD
END:VTIMEZONE
BEGIN:VEVENT
DTSTART;TZID=Europe/London:20240416T190000
DTEND;TZID=Europe/London:20240416T223000
DTSTAMP:20260423T024337
CREATED:20240313T203714Z
LAST-MODIFIED:20240313T203715Z
UID:1044-1713294000-1713306600@nxtgenracing.co.uk
SUMMARY:NXTCC Season 6 - Long Beach
DESCRIPTION:Born against long odds in 1976\, the Long Beach Grand Prix is North America’s premier street race. The debut event featured Formula 5000 cars in a race won by Brian Redman. The following year\, Clay Regazzoni captured the inaugural U.S. Grand Prix (West) and in 1977 Mario Andretti passed Jody Scheckter in the closing laps to become the first American to win an F1 race on home ground. \n\n\n\nAndretti’s popular victory put the race on firm financial footing and set in motion the rebirth of Long Beach\, which morphed from a down-on-its heels port city to a thriving modern city/tourist destination. The resulting building boom necessitated ongoing changes to the track layout\, finally settling on the current 1.968 mile\, 11 turn circuit encircling the Long Beach Convention Center and the Long Beach Aquarium. \n\n\n\nNor were the changes limited to the track and its environs. The Long Beach GP changed gears in 1984\, bringing the home-grown Indy cars to town as the featured attraction. The event hardly missed a beat\, as the names of Unser\, Zanardi\, Montoya\, Franchitti\, Power\, Conway and Dixon joined the likes of Regazzoni\, Andretti\, Villeneuve\, Piquet and Lauda on the illustrious list of Long Beach winners. What’s more\, the event grew to include IMSA and SCCA pro sports car racing series\, along with the popular Toyota Celebrity race in which Hollywood’s famous (and near famous) exchange Armani and Gucci for Simpson and Bell. \n\n\n\nF1 or IndyCar\, world class driver or movie star\, the Long Beach Grand Prix circuit is as testing as they come … with very hard walls eagerly awaiting the slightest mistake. \n\n\n\nEvent Host
URL:https://nxtgenracing.co.uk/event/nxtcc-season-6-long-beach/
CATEGORIES:NXTCC Season 6
ATTACH;FMTTYPE=image/jpeg:https://nxtgenracing.co.uk/wp-content/uploads/2024/03/LongBeach.jpg
ORGANIZER;CN="Jamie Dorey":MAILTO:nxtgenracingleague@gmail.com
END:VEVENT
END:VCALENDAR