BEGIN:VCALENDAR
VERSION:2.0
PRODID:-//NXTGEN Racing - ECPv6.3.3.1//NONSGML v1.0//EN
CALSCALE:GREGORIAN
METHOD:PUBLISH
X-ORIGINAL-URL:https://nxtgenracing.co.uk
X-WR-CALDESC:Events for NXTGEN Racing
REFRESH-INTERVAL;VALUE=DURATION:PT1H
X-Robots-Tag:noindex
X-PUBLISHED-TTL:PT1H
BEGIN:VTIMEZONE
TZID:Europe/London
BEGIN:DAYLIGHT
TZOFFSETFROM:+0000
TZOFFSETTO:+0100
TZNAME:BST
DTSTART:20240331T010000
END:DAYLIGHT
BEGIN:STANDARD
TZOFFSETFROM:+0100
TZOFFSETTO:+0000
TZNAME:GMT
DTSTART:20241027T010000
END:STANDARD
END:VTIMEZONE
BEGIN:VEVENT
DTSTART;TZID=Europe/London:20240430T190000
DTEND;TZID=Europe/London:20240430T223000
DTSTAMP:20260423T001557
CREATED:20240313T204128Z
LAST-MODIFIED:20240313T204128Z
UID:1050-1714503600-1714516200@nxtgenracing.co.uk
SUMMARY:NXTCC Season 6 - Mugello
DESCRIPTION:After half a century’s worth of events on public roads were brought to an abrupt halt in 1970\, Autodromo Internazionale del Mugello was constructed in 1973 and opened a year later to bring premier racing events back to the area. It quickly became host to major sports car events\, lower-level open-wheel series\, and grand prix motorcycle racing\, for which it has hosted the Italian motorcycle Grand Prix for the past 30 years. In the COVID-19 impacted 2020 World Driver’s Championship\, it hosted the series for the first time with the Tuscan Grand Prix. Mugello features two layouts: its 3.259-mile\, 15-turn Grand Prix layout\, and a 1.4-mile Short configuration. Both start with its lengthy front straightaway and go into the 180-degree San Donato right-hander before heading into Luco and Poggio Secco. The track has been owned by Scuderia Ferrari since 1988\, which uses it for both testing and the Ferrari Challenge Finali Mondiali; the Tuscan Grand Prix in 2020 marked its 1000th Grand Prix event. \n\n\n\nEvent Host
URL:https://nxtgenracing.co.uk/event/nxtcc-season-6-mugello/
CATEGORIES:NXTCC Season 6
ATTACH;FMTTYPE=image/jpeg:https://nxtgenracing.co.uk/wp-content/uploads/2024/03/mugello.jpg
ORGANIZER;CN="Jamie Dorey":MAILTO:nxtgenracingleague@gmail.com
END:VEVENT
END:VCALENDAR