BEGIN:VCALENDAR
VERSION:2.0
PRODID:-//NXTGEN Racing - ECPv6.3.3.1//NONSGML v1.0//EN
CALSCALE:GREGORIAN
METHOD:PUBLISH
X-WR-CALNAME:NXTGEN Racing
X-ORIGINAL-URL:https://nxtgenracing.co.uk
X-WR-CALDESC:Events for NXTGEN Racing
REFRESH-INTERVAL;VALUE=DURATION:PT1H
X-Robots-Tag:noindex
X-PUBLISHED-TTL:PT1H
BEGIN:VTIMEZONE
TZID:Europe/London
BEGIN:DAYLIGHT
TZOFFSETFROM:+0000
TZOFFSETTO:+0100
TZNAME:BST
DTSTART:20240331T010000
END:DAYLIGHT
BEGIN:STANDARD
TZOFFSETFROM:+0100
TZOFFSETTO:+0000
TZNAME:GMT
DTSTART:20241027T010000
END:STANDARD
END:VTIMEZONE
BEGIN:VEVENT
DTSTART;TZID=Europe/London:20240507T190000
DTEND;TZID=Europe/London:20240507T223000
DTSTAMP:20260422T143801
CREATED:20240313T204356Z
LAST-MODIFIED:20240313T204357Z
UID:1053-1715108400-1715121000@nxtgenracing.co.uk
SUMMARY:NXTCC Season 6 - Hockenheim GP
DESCRIPTION:One of Europe’s premier racing circuits\, the heritage of the Hockenheimring takes back to 1932\, when it was called “Dreieckskurs” (or “triangle course”). The track has undergone multiple redesigns since then\, most recently in 2002\, when a dramatically shortened new layout eliminated the long straightaways through the forest that produced exciting racing\, but were taxing on engines and difficult for fans to see. Although the redesign was divisive among drivers and teams who welcomed the changes and those who missed the challenges of the old track\, it kept the German Grand Prix at the track for 2002 and beyond. \n\n\n\nThe modern iteration of Hockenheim was designed by Hermann Tilke as one of his earliest major works. The full layout clocks in at just under three miles\, with 17 turns that mix high-speed corners with tight and technical hairpins. Notable sections and corners include the Nordkurve\, the fast right-hander that drivers see first after starting the race; the long\, sweeping left-handed Parabolika that charges into the track’s tightest hairpin; and Sachs\, another tight left-hander that makes up part of the stadium section in the latter stages of the lap. The Hockenheimring also features a number of shorter layouts for touring car and club racing\, shortening the overall length to better suit these vehicles. \n\n\n\nEvent Host
URL:https://nxtgenracing.co.uk/event/nxtcc-season-6-hockenheim-gp/
CATEGORIES:NXTCC Season 6
ATTACH;FMTTYPE=image/jpeg:https://nxtgenracing.co.uk/wp-content/uploads/2024/03/Hockenheim.jpg
ORGANIZER;CN="Jamie Dorey":MAILTO:nxtgenracingleague@gmail.com
END:VEVENT
END:VCALENDAR