BEGIN:VCALENDAR
VERSION:2.0
PRODID:-//NXTGEN Racing - ECPv6.3.3.1//NONSGML v1.0//EN
CALSCALE:GREGORIAN
METHOD:PUBLISH
X-WR-CALNAME:NXTGEN Racing
X-ORIGINAL-URL:https://nxtgenracing.co.uk
X-WR-CALDESC:Events for NXTGEN Racing
REFRESH-INTERVAL;VALUE=DURATION:PT1H
X-Robots-Tag:noindex
X-PUBLISHED-TTL:PT1H
BEGIN:VTIMEZONE
TZID:Europe/London
BEGIN:DAYLIGHT
TZOFFSETFROM:+0000
TZOFFSETTO:+0100
TZNAME:BST
DTSTART:20240331T010000
END:DAYLIGHT
BEGIN:STANDARD
TZOFFSETFROM:+0100
TZOFFSETTO:+0000
TZNAME:GMT
DTSTART:20241027T010000
END:STANDARD
END:VTIMEZONE
BEGIN:VEVENT
DTSTART;TZID=Europe/London:20240514T190000
DTEND;TZID=Europe/London:20240514T223000
DTSTAMP:20260422T042830
CREATED:20240313T204551Z
LAST-MODIFIED:20240313T204552Z
UID:1056-1715713200-1715725800@nxtgenracing.co.uk
SUMMARY:NXTCC Season 6 - Oran Park GP
DESCRIPTION:One of Australia’s most historic race tracks\, Oran Park lives forever on iRacing.com even though it fell to the wreckers’ ball and bulldozers in 2010 to make way for a housing development. Shortly before this unique track went the way of Riverside Raceway and Trenton Speedway\, iRacing’s laser-scanning crew mapped Oran Park’s different configurations\, thus insuring the beloved suburban Sydney circuit will be available in digital form for future generations. \n\n\n\nThe “original” Oran Park staged its first race on a one mile circuit in 1962\, and the track was subsequently expanded to 1.2 miles. 1974 saw the track expanded further\, to 1.6 miles with the incorporation of a loop and cross-over bridge\, resulting in one of the world’s few “figure-eight” style circuits. Over the years Oran Park became a fixture on the Australian Touring Car Championship and V8 Supercar Series schedules. Fittingly\, Australian legends Allan Moffat and Mark Skaife share the record of six wins apiece at the track. Oran Park also hosted a couple of rounds of the Superbike World Championship in 1988 and ’89\, as well as a number of touring car endurance races. Garth Tander won the final V8 Supercar race at Oran Park in 2008. \n\n\n\niRacing’s version of Oran Park features three different configurations including the 1.6 mile (2.6 km) Grand Prix Circuit\, the 1.2 mile (1.9 km) South Circuit and the .4 mile (.6 km) North Circuit\, which is an almost perfect figure-eight shape. \n\n\n\nEvent Host
URL:https://nxtgenracing.co.uk/event/nxtcc-season-6-oran-park-gp/
CATEGORIES:NXTCC Season 6
ATTACH;FMTTYPE=image/jpeg:https://nxtgenracing.co.uk/wp-content/uploads/2024/03/OranPark.jpg
ORGANIZER;CN="Jamie Dorey":MAILTO:nxtgenracingleague@gmail.com
END:VEVENT
END:VCALENDAR