BEGIN:VCALENDAR
VERSION:2.0
PRODID:-//NXTGEN Racing - ECPv6.3.3.1//NONSGML v1.0//EN
CALSCALE:GREGORIAN
METHOD:PUBLISH
X-WR-CALNAME:NXTGEN Racing
X-ORIGINAL-URL:https://nxtgenracing.co.uk
X-WR-CALDESC:Events for NXTGEN Racing
REFRESH-INTERVAL;VALUE=DURATION:PT1H
X-Robots-Tag:noindex
X-PUBLISHED-TTL:PT1H
BEGIN:VTIMEZONE
TZID:Europe/London
BEGIN:DAYLIGHT
TZOFFSETFROM:+0000
TZOFFSETTO:+0100
TZNAME:BST
DTSTART:20240331T010000
END:DAYLIGHT
BEGIN:STANDARD
TZOFFSETFROM:+0100
TZOFFSETTO:+0000
TZNAME:GMT
DTSTART:20241027T010000
END:STANDARD
END:VTIMEZONE
BEGIN:VEVENT
DTSTART;TZID=Europe/London:20240521T190000
DTEND;TZID=Europe/London:20240521T223000
DTSTAMP:20260421T191551
CREATED:20240313T204750Z
LAST-MODIFIED:20240313T204750Z
UID:1059-1716318000-1716330600@nxtgenracing.co.uk
SUMMARY:NXTCC Season 6 - Daytona Road
DESCRIPTION:No one could have known it then\, but when Daytona International Speedway opened in 1959\, it marked the beginning of a new era in American motorsport. As a replacement for the old beach road course a few miles east\, the the high-banked\, 2.5-mile Florida tri-oval represented the leading edge of a wave of construction of big\, paved speed palaces. Before Daytona\, Indianapolis was the only American oval track longer than 1.25 miles\, and most racing took place on dirt ovals a mile or less in length. From the very first Daytona 500\, won by Lee Petty in a three-way photo finish\, those high banks\, so steep that it is hard to walk up them\, proved a favorable venue for wide-open stock car racing\, and Daytona kicked-off the growth of NASCAR as we know it today. \n\n\n\nDaytona was also the first multi-use facility\, with a 3.56-mile road circuit incorporating the infield and most of the oval. Host not only to the Daytona 500\, but the Rolex 24 sports car enduro\, Bike Week’s Daytona 200\, Daytona KartWeek between Christmas and New Years and a host of driving-school\, club and other events\, Daytona’s busy and diverse schedule confirms the track’s motto\, “The World Center of Racing.” \n\n\n\nDaytona International Speedway’s infrastructure has grown and changed to such a degree that it would be almost unrecognizable today to someone who hasn’t seen it since the track opened. But one thing hasn’t changed over the past six decades: No driver can consider his or her career complete without notching a victory at Daytona. \n\n\n\nEvent Host
URL:https://nxtgenracing.co.uk/event/nxtcc-season-6-daytona-road/
CATEGORIES:NXTCC Season 6
ATTACH;FMTTYPE=image/jpeg:https://nxtgenracing.co.uk/wp-content/uploads/2024/03/Daytona.jpg
ORGANIZER;CN="Jamie Dorey":MAILTO:nxtgenracingleague@gmail.com
END:VEVENT
END:VCALENDAR